{"text_format":"1","workbook":"xlsx","n_sheets":3,"sheets":["Front page","M","S"],"not_rendered":{"charts":0,"images":5,"macros":1,"external_links":0,"defined_names":1,"comments":0,"pivot_tables":0},"unopened":[],"bounds":{"document_bytes":16777216,"sheet_cells":100000,"rows_first":2000,"rows_last":500,"rows_between":2000,"halvings":0,"cell_chars":16384,"cell_head_chars":4096},"cells_cut":0,"cells_raw":0,"read":"whole","date_system":"1900"}

{"sheet":"Front page","index":0,"n_rows":12,"n_cols":6,"rows_kept":12,"cut":false,"hidden":false,"merged":[]}
[]
[]
[]
[]
[]
[]
[null,null,null,null,null,"Nemera Neuenberg Rheinwaldstrasse 10 79395 Neuenberg Am Rhein            Deutschland"]
[null,null,null,"Customer",null,"Gerresheimer         650 Highway 74 South    PO BOX 2568 30269 Peach Tree City Georgia       USA"]
[null,null,null,null,null,"Gerresheimer         Horsovsky 34601   Rechungsprufung Zahandri 282        CZ"]
[null,null,null,"P/O NO."]
[]
[null,null,null,"Total number of pallets"]

{"sheet":"M","index":1,"n_rows":215,"n_cols":6,"rows_kept":215,"cut":false,"hidden":false,"merged":[[168,2,176,5],[180,1,185,2],[180,3,184,5],[185,4,185,5],[186,2,194,5],[144,1,149,2],[144,3,148,5],[149,4,149,5],[150,2,158,5],[162,1,167,2],[162,3,166,5],[167,4,167,5],[96,2,104,5],[108,1,113,2],[108,3,112,5],[113,4,113,5],[114,2,122,5],[6,2,14,5],[0,1,5,2],[24,0,25,0],[126,1,131,2],[126,3,130,5],[131,4,131,5],[36,1,41,2],[36,3,40,5],[41,4,41,5],[42,2,50,5],[54,1,59,2],[54,3,58,5],[59,4,59,5],[0,3,4,5],[5,4,5,5],[18,3,22,5],[204,2,212,5],[132,2,140,5],[18,1,23,2],[198,1,203,2],[198,3,202,5],[203,4,203,5],[60,2,68,5],[23,4,23,5],[24,2,32,5],[72,1,77,2],[72,3,76,5],[77,4,77,5],[78,2,86,5],[90,1,95,2],[90,3,94,5],[95,4,95,5]]}
["Advanex Europe Ltd",null,null,{"$f":"'Front page'!E8","v":0}]
["Mill Park Way"]
["Southwell "]
["Notts"]
["NG25 0ET"]
["United Kingdom",null,null,"P/O:",{"$f":"'Front page'!E10","v":0}]
["Teile:  COM_0022_01                           Torsion Hub Spring",null,"M"]
[]
[]
[]
["Artikel: 30014757"]
[]
[]
[]
[]
["Menge:  360000"]
[null,null,"Palette:",1,"von",{"$f":"'Front page'!E12","v":0}]
[]
["Advanex Europe Ltd",null,null,{"$f":"'Front page'!E8","v":0}]
["Mill Park Way"]
["Southwell "]
["Notts"]
["NG25 0ET"]
["United Kingdom",null,null,"P/O:",{"$f":"'Front page'!E10","v":0}]
["Teile:  COM_0022_01                           Torsion Hub Spring",null,"M"]
[]
[]
[]
["Artikel: 30014757"]
[]
[]
[]
[]
["Menge:  360000"]
[null,null,"Palette:",2,"von",{"$f":"'Front page'!E12","v":0}]
[]
["Advanex Europe Ltd",null,null,{"$f":"'Front page'!E8","v":0}]
["Mill Park Way"]
["Southwell "]
["Notts"]
["NG25 0ET"]
["United Kingdom",null,null,"P/O:",{"$f":"'Front page'!E10","v":0}]
["Teile:  COM_0022_01                           Torsion Hub Spring",null,"M"]
[]
[]
[]
["Artikel: 30014757"]
[]
[]
[]
[]
["Menge:  360000"]
[null,null,"Palette:",3,"von",{"$f":"'Front page'!E12","v":0}]
[]
["Advanex Europe Ltd",null,null,{"$f":"'Front page'!E8","v":0}]
["Mill Park Way"]
["Southwell "]
["Notts"]
["NG25 0ET"]
["United Kingdom",null,null,"P/O:",{"$f":"'Front page'!E10","v":0}]
["Teile:  COM_0022_01                           Torsion Hub Spring",null,"M"]
[]
[]
[]
["Artikel: 30014757"]
[]
[]
[]
[]
["Menge:  360000"]
[null,null,"Palette:",4,"von",{"$f":"'Front page'!E12","v":0}]
[]
["Advanex Europe Ltd",null,null,{"$f":"'Front page'!E8","v":0}]
["Mill Park Way"]
["Southwell "]
["Notts"]
["NG25 0ET"]
["United Kingdom",null,null,"P/O:",{"$f":"'Front page'!E10","v":0}]
["Teile:  COM_0022_01                           Torsion Hub Spring",null,"M"]
[]
[]
[]
["Artikel: 30014757"]
[]
[]
[]
[]
["Menge:  360000"]
[null,null,"Palette:",5,"von",{"$f":"'Front page'!E12","v":0}]
[]
["Advanex Europe Ltd",null,null,{"$f":"'Front page'!E8","v":0}]
["Mill Park Way"]
["Southwell "]
["Notts"]
["NG25 0ET"]
["United Kingdom",null,null,"P/O:",{"$f":"'Front page'!E10","v":0}]
["Teile:  COM_0022_01                           Torsion Hub Spring",null,"M"]
[]
[]
[]
["Artikel: 30014757"]
[]
[]
[]
[]
["Menge:  360000"]
[null,null,"Palette:",6,"von",{"$f":"'Front page'!E12","v":0}]
[]
["Advanex Europe Ltd",null,null,{"$f":"'Front page'!E8","v":0}]
["Mill Park Way"]
["Southwell "]
["Notts"]
["NG25 0ET"]
["United Kingdom",null,null,"P/O:",{"$f":"'Front page'!E10","v":0}]
["Teile:  COM_0022_01                           Torsion Hub Spring",null,"M"]
[]
[]
[]
["Artikel: 30014757"]
[]
[]
[]
[]
["Menge:  360000"]
[null,null,"Palette:",7,"von",{"$f":"'Front page'!E12","v":0}]
[]
["Advanex Europe Ltd",null,null,{"$f":"'Front page'!E8","v":0}]
["Mill Park Way"]
["Southwell "]
["Notts"]
["NG25 0ET"]
["United Kingdom",null,null,"P/O:",{"$f":"'Front page'!E10","v":0}]
["Teile:  COM_0022_01                           Torsion Hub Spring",null,"M"]
[]
[]
[]
["Artikel: 30014757"]
[]
[]
[]
[]
["Menge:  360000"]
[null,null,"Palette:",8,"von",{"$f":"'Front page'!E12","v":0}]
[]
["Advanex Europe Ltd",null,null,{"$f":"'Front page'!E8","v":0}]
["Mill Park Way"]
["Southwell "]
["Notts"]
["NG25 0ET"]
["United Kingdom",null,null,"P/O:",{"$f":"'Front page'!E10","v":0}]
["Teile:  COM_0022_01                           Torsion Hub Spring",null,"M"]
[]
[]
[]
["Artikel: 30014757"]
[]
[]
[]
[]
["Menge:  360000"]
[null,null,"Palette:",9,"von",{"$f":"'Front page'!E12","v":0}]
[]
["Advanex Europe Ltd",null,null,{"$f":"'Front page'!E8","v":0}]
["Mill Park Way"]
["Southwell "]
["Notts"]
["NG25 0ET"]
["United Kingdom",null,null,"P/O:",{"$f":"'Front page'!E10","v":0}]
["Teile:  COM_0022_01                           Torsion Hub Spring",null,"M"]
[]
[]
[]
["Artikel: 30014757"]
[]
[]
[]
[]
["Menge:  360000"]
[null,null,"Palette:",10,"von",{"$f":"'Front page'!E12","v":0}]
[]
["Advanex Europe Ltd",null,null,{"$f":"'Front page'!E8","v":0}]
["Mill Park Way"]
["Southwell "]
["Notts"]
["NG25 0ET"]
["United Kingdom",null,null,"P/O:",{"$f":"'Front page'!E10","v":0}]
["Teile:  COM_0022_01                           Torsion Hub Spring",null,"M"]
[]
[]
[]
["Artikel: 30014757"]
[]
[]
[]
[]
["Menge:  360000"]
[null,null,"Palette:",11,"von",{"$f":"'Front page'!E12","v":0}]
[]
["Advanex Europe Ltd",null,null,{"$f":"'Front page'!E8","v":0}]
["Mill Park Way"]
["Southwell "]
["Notts"]
["NG25 0ET"]
["United Kingdom",null,null,"P/O:",{"$f":"'Front page'!E10","v":0}]
["Teile:  COM_0022_01                           Torsion Hub Spring",null,"M"]
[]
[]
[]
["Artikel: 30014757"]
[]
[]
[]
[]
["Menge:  360000"]
[null,null,"Palette:",12,"von",{"$f":"'Front page'!E12","v":0}]

{"sheet":"S","index":2,"n_rows":215,"n_cols":6,"rows_kept":215,"cut":false,"hidden":false,"merged":[[168,2,176,5],[180,1,185,2],[180,3,184,5],[185,4,185,5],[186,2,194,5],[162,1,167,2],[162,3,166,5],[167,4,167,5],[96,2,104,5],[108,1,113,2],[108,3,112,5],[113,4,113,5],[114,2,122,5],[126,1,131,2],[126,3,130,5],[131,4,131,5],[132,2,140,5],[144,1,149,2],[144,3,148,5],[149,4,149,5],[150,2,158,5],[60,2,68,5],[72,1,77,2],[72,3,76,5],[77,4,77,5],[78,2,86,5],[36,3,40,5],[41,4,41,5],[42,2,50,5],[54,1,59,2],[54,3,58,5],[59,4,59,5],[198,1,203,2],[198,3,202,5],[203,4,203,5],[204,2,212,5],[0,1,5,2],[0,3,4,5],[5,4,5,5],[6,2,14,5],[18,1,23,2],[18,3,22,5],[23,4,23,5],[90,1,95,2],[90,3,94,5],[95,4,95,5],[24,2,32,5],[36,1,41,2]]}
["Advanex Europe Ltd",null,null,{"$f":"'Front page'!E8","v":0}]
["Mill Park Way"]
["Southwell "]
["Notts"]
["NG25 0ET"]
["United Kingdom",null,null,"P/O:",{"$f":"'Front page'!E10","v":0}]
["Teile:  COM_0023_01                           Torsion Hub Spring",null,"S"]
[]
[]
[]
["Artikel: 30014756"]
[]
[]
[]
[]
["Menge:  360000"]
[null,null,"Palette:",1,"von",{"$f":"'Front page'!E12","v":0}]
[]
["Advanex Europe Ltd",null,null,{"$f":"'Front page'!E8","v":0}]
["Mill Park Way"]
["Southwell "]
["Notts"]
["NG25 0ET"]
["United Kingdom",null,null,"P/O:",{"$f":"'Front page'!E10","v":0}]
["Teile:  COM_0023_01                           Torsion Hub Spring",null,"S"]
[]
[]
[]
["Artikel: 30014756"]
[]
[]
[]
[]
["Menge:  360000"]
[null,null,"Palette:",2,"von",{"$f":"'Front page'!E12","v":0}]
[]
["Advanex Europe Ltd",null,null,{"$f":"'Front page'!E8","v":0}]
["Mill Park Way"]
["Southwell "]
["Notts"]
["NG25 0ET"]
["United Kingdom",null,null,"P/O:",{"$f":"'Front page'!E10","v":0}]
["Teile:  COM_0023_01                           Torsion Hub Spring",null,"S"]
[]
[]
[]
["Artikel: 30014756"]
[]
[]
[]
[]
["Menge:  360000"]
[null,null,"Palette:",3,"von",{"$f":"'Front page'!E12","v":0}]
[]
["Advanex Europe Ltd",null,null,{"$f":"'Front page'!E8","v":0}]
["Mill Park Way"]
["Southwell "]
["Notts"]
["NG25 0ET"]
["United Kingdom",null,null,"P/O:",{"$f":"'Front page'!E10","v":0}]
["Teile:  COM_0023_01                           Torsion Hub Spring",null,"S"]
[]
[]
[]
["Artikel: 30014756"]
[]
[]
[]
[]
["Menge:  360000"]
[null,null,"Palette:",4,"von",{"$f":"'Front page'!E12","v":0}]
[]
["Advanex Europe Ltd",null,null,{"$f":"'Front page'!E8","v":0}]
["Mill Park Way"]
["Southwell "]
["Notts"]
["NG25 0ET"]
["United Kingdom",null,null,"P/O:",{"$f":"'Front page'!E10","v":0}]
["Teile:  COM_0023_01                           Torsion Hub Spring",null,"S"]
[]
[]
[]
["Artikel: 30014756"]
[]
[]
[]
[]
["Menge:  360000"]
[null,null,"Palette:",5,"von",{"$f":"'Front page'!E12","v":0}]
[]
["Advanex Europe Ltd",null,null,{"$f":"'Front page'!E8","v":0}]
["Mill Park Way"]
["Southwell "]
["Notts"]
["NG25 0ET"]
["United Kingdom",null,null,"P/O:",{"$f":"'Front page'!E10","v":0}]
["Teile:  COM_0023_01                           Torsion Hub Spring",null,"S"]
[]
[]
[]
["Artikel: 30014756"]
[]
[]
[]
[]
["Menge:  360000"]
[null,null,"Palette:",6,"von",{"$f":"'Front page'!E12","v":0}]
[]
["Advanex Europe Ltd",null,null,{"$f":"'Front page'!E8","v":0}]
["Mill Park Way"]
["Southwell "]
["Notts"]
["NG25 0ET"]
["United Kingdom",null,null,"P/O:",{"$f":"'Front page'!E10","v":0}]
["Teile:  COM_0023_01                           Torsion Hub Spring",null,"S"]
[]
[]
[]
["Artikel: 30014756"]
[]
[]
[]
[]
["Menge:  360000"]
[null,null,"Palette:",7,"von",{"$f":"'Front page'!E12","v":0}]
[]
["Advanex Europe Ltd",null,null,{"$f":"'Front page'!E8","v":0}]
["Mill Park Way"]
["Southwell "]
["Notts"]
["NG25 0ET"]
["United Kingdom",null,null,"P/O:",{"$f":"'Front page'!E10","v":0}]
["Teile:  COM_0023_01                           Torsion Hub Spring",null,"S"]
[]
[]
[]
["Artikel: 30014756"]
[]
[]
[]
[]
["Menge:  360000"]
[null,null,"Palette:",8,"von",{"$f":"'Front page'!E12","v":0}]
[]
["Advanex Europe Ltd",null,null,{"$f":"'Front page'!E8","v":0}]
["Mill Park Way"]
["Southwell "]
["Notts"]
["NG25 0ET"]
["United Kingdom",null,null,"P/O:",{"$f":"'Front page'!E10","v":0}]
["Teile:  COM_0023_01                           Torsion Hub Spring",null,"S"]
[]
[]
[]
["Artikel: 30014756"]
[]
[]
[]
[]
["Menge:  360000"]
[null,null,"Palette:",9,"von",{"$f":"'Front page'!E12","v":0}]
[]
["Advanex Europe Ltd",null,null,{"$f":"'Front page'!E8","v":0}]
["Mill Park Way"]
["Southwell "]
["Notts"]
["NG25 0ET"]
["United Kingdom",null,null,"P/O:",{"$f":"'Front page'!E10","v":0}]
["Teile:  COM_0023_01                           Torsion Hub Spring",null,"S"]
[]
[]
[]
["Artikel: 30014756"]
[]
[]
[]
[]
["Menge:  360000"]
[null,null,"Palette:",10,"von",{"$f":"'Front page'!E12","v":0}]
[]
["Advanex Europe Ltd",null,null,{"$f":"'Front page'!E8","v":0}]
["Mill Park Way"]
["Southwell "]
["Notts"]
["NG25 0ET"]
["United Kingdom",null,null,"P/O:",{"$f":"'Front page'!E10","v":0}]
["Teile:  COM_0023_01                           Torsion Hub Spring",null,"S"]
[]
[]
[]
["Artikel: 30014756"]
[]
[]
[]
[]
["Menge:  360000"]
[null,null,"Palette:",11,"von",{"$f":"'Front page'!E12","v":0}]
[]
["Advanex Europe Ltd",null,null,{"$f":"'Front page'!E8","v":0}]
["Mill Park Way"]
["Southwell "]
["Notts"]
["NG25 0ET"]
["United Kingdom",null,null,"P/O:",{"$f":"E186","v":0}]
["Teile:  COM_0023_01                           Torsion Hub Spring",null,"S"]
[]
[]
[]
["Artikel: 30014756"]
[]
[]
[]
[]
["Menge:  360000"]
[null,null,"Palette:",12,"von",{"$f":"'Front page'!E12","v":0}]